BEGIN:VCALENDAR
VERSION:2.0
CALSCALE:GREGORIAN
BEGIN:VEVENT
URL:https://www.learndesk.us/class/5510721670479872/lesson/7051f4906982cc0debaf3f3ced27dab4?ref=outlook-calendar
SUMMARY:Assignment 1: CentOS Command Assignment
DTSTART;TZID=America/Los_Angeles:20260422T190000
DTEND;TZID=America/Los_Angeles:20260422T200000
LOCATION:https://www.learndesk.us/class/5510721670479872/lesson/7051f4906982cc0debaf3f3ced27dab4?ref=outlook-calendar
DESCRIPTION: This assignment will ensure CentOS installation and hands-on command exercises are completed by students.

https://www.learndesk.us/class/5510721670479872/lesson/7051f4906982cc0debaf3f3ced27dab4?ref=outlook-calendar
STATUS:CONFIRMED
SEQUENCE:3
BEGIN:VALARM
TRIGGER:-PT10M
DESCRIPTION:Class Reminder
ACTION:DISPLAY
END:VALARM
END:VEVENT
END:VCALENDAR