BEGIN:VCALENDAR
VERSION:2.0
CALSCALE:GREGORIAN
BEGIN:VEVENT
URL:https://www.learndesk.us/class/5510721670479872/lesson/2cafdd32bd5ff3504beb41d0ce9ffd1c?ref=outlook-calendar
SUMMARY:Lecture 8: Squirrel GUI SQL Client Usage
DTSTART;TZID=America/Los_Angeles:20260420T190000
DTEND;TZID=America/Los_Angeles:20260420T200000
LOCATION:https://www.learndesk.us/class/5510721670479872/lesson/2cafdd32bd5ff3504beb41d0ce9ffd1c?ref=outlook-calendar
DESCRIPTION: 
GUI based Squirrel SQL client download and installation
JDBC driver setup
DSN configuration
SQL usage


https://www.learndesk.us/class/5510721670479872/lesson/2cafdd32bd5ff3504beb41d0ce9ffd1c?ref=outlook-calendar
STATUS:CONFIRMED
SEQUENCE:3
BEGIN:VALARM
TRIGGER:-PT10M
DESCRIPTION:Class Reminder
ACTION:DISPLAY
END:VALARM
END:VEVENT
END:VCALENDAR