BEGIN:VCALENDAR
VERSION:2.0
CALSCALE:GREGORIAN
BEGIN:VEVENT
URL:https://www.learndesk.us/class/5510721670479872/lesson/1a6bf0e31fb4b6d8640048164dee572f?ref=outlook-calendar
SUMMARY:Assignment 5: Vertica Database Cluster Import Assignment
DTSTART;TZID=America/Los_Angeles:20260422T190000
DTEND;TZID=America/Los_Angeles:20260422T200000
LOCATION:https://www.learndesk.us/class/5510721670479872/lesson/1a6bf0e31fb4b6d8640048164dee572f?ref=outlook-calendar
DESCRIPTION: This assignment will ensure Vertica database cluster is imported successfully in Vertica Management Console and all hands-on completed by students

https://www.learndesk.us/class/5510721670479872/lesson/1a6bf0e31fb4b6d8640048164dee572f?ref=outlook-calendar
STATUS:CONFIRMED
SEQUENCE:3
BEGIN:VALARM
TRIGGER:-PT10M
DESCRIPTION:Class Reminder
ACTION:DISPLAY
END:VALARM
END:VEVENT
END:VCALENDAR