BEGIN:VCALENDAR
VERSION:2.0
CALSCALE:GREGORIAN
BEGIN:VEVENT
URL:https://www.learndesk.us/class/5510721670479872/lesson/0bdc5e7afd85319f5c6a3e1548c625e6?ref=outlook-calendar
SUMMARY:Section 2: CentOS Installation in Virtualbox
DTSTART;TZID=America/Los_Angeles:20260420T190000
DTEND;TZID=America/Los_Angeles:20260420T200000
LOCATION:https://www.learndesk.us/class/5510721670479872/lesson/0bdc5e7afd85319f5c6a3e1548c625e6?ref=outlook-calendar
DESCRIPTION: CentsOS download and installation in Virtualbox as a guest operating system

https://www.learndesk.us/class/5510721670479872/lesson/0bdc5e7afd85319f5c6a3e1548c625e6?ref=outlook-calendar
STATUS:CONFIRMED
SEQUENCE:3
BEGIN:VALARM
TRIGGER:-PT10M
DESCRIPTION:Class Reminder
ACTION:DISPLAY
END:VALARM
END:VEVENT
END:VCALENDAR