BEGIN:VCALENDAR
VERSION:2.0
CALSCALE:GREGORIAN
BEGIN:VEVENT
URL:https://www.learndesk.us/class/5510721670479872/lesson/08a6401403d66072f88c311464b94fb1?ref=outlook-calendar
SUMMARY:Lecture 7: Virtual Machine Resolution Change, Schema and User Creation from vsql Prompt
DTSTART;TZID=America/Los_Angeles:20260420T190000
DTEND;TZID=America/Los_Angeles:20260420T200000
LOCATION:https://www.learndesk.us/class/5510721670479872/lesson/08a6401403d66072f88c311464b94fb1?ref=outlook-calendar
DESCRIPTION: Linux command line sql client usage for schema creation, user creation, and grants

https://www.learndesk.us/class/5510721670479872/lesson/08a6401403d66072f88c311464b94fb1?ref=outlook-calendar
STATUS:CONFIRMED
SEQUENCE:3
BEGIN:VALARM
TRIGGER:-PT10M
DESCRIPTION:Class Reminder
ACTION:DISPLAY
END:VALARM
END:VEVENT
END:VCALENDAR