BEGIN:VCALENDAR
VERSION:2.0
CALSCALE:GREGORIAN
BEGIN:VEVENT
URL:https://www.learndesk.us/class/5510721670479872/lesson/05667dd0b03e997555d9157f81e06eb4?ref=outlook-calendar
SUMMARY:Lecture 6: Vertica Configuration and Database Creation
DTSTART;TZID=America/Los_Angeles:20260420T190000
DTEND;TZID=America/Los_Angeles:20260420T200000
LOCATION:https://www.learndesk.us/class/5510721670479872/lesson/05667dd0b03e997555d9157f81e06eb4?ref=outlook-calendar
DESCRIPTION: Detail navigation of Admin Tools for Vertica database administration from the Linux command line

https://www.learndesk.us/class/5510721670479872/lesson/05667dd0b03e997555d9157f81e06eb4?ref=outlook-calendar
STATUS:CONFIRMED
SEQUENCE:3
BEGIN:VALARM
TRIGGER:-PT10M
DESCRIPTION:Class Reminder
ACTION:DISPLAY
END:VALARM
END:VEVENT
END:VCALENDAR