BEGIN:VCALENDAR
VERSION:2.0
CALSCALE:GREGORIAN
BEGIN:VEVENT
URL:https://www.learndesk.us/class/5510721670479872/vertica-database-9-2-1-and-mc-installation-on-centos-linux?ref=outlook-calendar
SUMMARY:Vertica Database 9.2.1 and MC Installation on CentOS Linux
DTSTART;TZID=America/Los_Angeles:20260420T190000
DTEND;TZID=America/Los_Angeles:20260420T200000
LOCATION:https://www.learndesk.us/class/5510721670479872/vertica-database-9-2-1-and-mc-installation-on-centos-linux?ref=outlook-calendar
DESCRIPTION: 
The course targeted to anyone who wants to start their carrier in Vertica database administration.
Following topics are covered in the course:

CentsOS download and installation in Virtualbox as a guest operating system
CentOS configuration for Vertica installation
Registration and download process of Vertica database and management console community edition software
Single node Vertica database 9.2.1 database cluster installation and configuration in CentOS
Detail navigation of admin tools for Vertica database administration from the Linux command line
Linux command line SQL client usage for schema creation, user creation, and grants
GUI based SQL client download, installation, JDBC driver configuration, and SQL usage
Vertica management console 9.2.1 installation in CentOS
HTTP port setting change in the firewall for management console UI access from host operating system
Vertica management console configuration and detail navigation
Importing already installed a Vertica database...

https://www.learndesk.us/class/5510721670479872/vertica-database-9-2-1-and-mc-installation-on-centos-linux?ref=outlook-calendar
STATUS:CONFIRMED
SEQUENCE:3
BEGIN:VALARM
TRIGGER:-PT10M
DESCRIPTION:Class Reminder
ACTION:DISPLAY
END:VALARM
END:VEVENT
END:VCALENDAR