BEGIN:VCALENDAR
VERSION:2.0
CALSCALE:GREGORIAN
BEGIN:VEVENT
URL:https://www.learndesk.us/class/5492916057276416/lesson/f0fdeca29c01a1cbd1a7c81819ca8202?ref=outlook-calendar
SUMMARY:Class 02: 1 Hour 32 Minutes
DTSTART;TZID=America/Los_Angeles:20260421T190000
DTEND;TZID=America/Los_Angeles:20260421T200000
LOCATION:https://www.learndesk.us/class/5492916057276416/lesson/f0fdeca29c01a1cbd1a7c81819ca8202?ref=outlook-calendar
DESCRIPTION: In this class, we will start our observational gesture drawing warm-up session by studying "Physical exercise" and how that can help us create strong and dynamic key poses. After that, I will guide you through a fun, hand-drawn, "Flipbook" exercise - teaching you a number of the core principles of movement - specifically "Squash and Stretch", "slow-in and slow-out" through the "Bouncing ball" assignment. Here, Tony explains in detail how to create a great and great moving flipbook of a bouncing ball, as well as tips on how to actually flip a flipbook successfully.

https://www.learndesk.us/class/5492916057276416/lesson/f0fdeca29c01a1cbd1a7c81819ca8202?ref=outlook-calendar
STATUS:CONFIRMED
SEQUENCE:3
BEGIN:VALARM
TRIGGER:-PT10M
DESCRIPTION:Class Reminder
ACTION:DISPLAY
END:VALARM
END:VEVENT
END:VCALENDAR