BEGIN:VCALENDAR
VERSION:2.0
CALSCALE:GREGORIAN
BEGIN:VEVENT
URL:https://www.learndesk.us/class/5492916057276416/lesson/d60d2e6a1e5cc4005c7dd6369a8fcf06?ref=outlook-calendar
SUMMARY:Class 08: 1 Hour 20 Minutes
DTSTART;TZID=America/Los_Angeles:20260421T190000
DTEND;TZID=America/Los_Angeles:20260421T200000
LOCATION:https://www.learndesk.us/class/5492916057276416/lesson/d60d2e6a1e5cc4005c7dd6369a8fcf06?ref=outlook-calendar
DESCRIPTION: In this class, we will start our observational gesture drawing warm-up session by studying "Sad emotions" and how that can impact the nature of the major key poses we create. After that, Tony will take students through part 2 of the "Generic walk" process, explaining how to succeed as the arms, neck, and torso to the action for the most convincing action.

https://www.learndesk.us/class/5492916057276416/lesson/d60d2e6a1e5cc4005c7dd6369a8fcf06?ref=outlook-calendar
STATUS:CONFIRMED
SEQUENCE:3
BEGIN:VALARM
TRIGGER:-PT10M
DESCRIPTION:Class Reminder
ACTION:DISPLAY
END:VALARM
END:VEVENT
END:VCALENDAR