BEGIN:VCALENDAR
VERSION:2.0
CALSCALE:GREGORIAN
BEGIN:VEVENT
URL:https://www.learndesk.us/class/5492916057276416/lesson/b4ddcafbc8899327b792291177c1e0c5?ref=outlook-calendar
SUMMARY:Class 01: 1 Hour 24 Minutes
DTSTART;TZID=America/Los_Angeles:20260421T190000
DTEND;TZID=America/Los_Angeles:20260421T200000
LOCATION:https://www.learndesk.us/class/5492916057276416/lesson/b4ddcafbc8899327b792291177c1e0c5?ref=outlook-calendar
DESCRIPTION: In this first class, I will introduce myself to you, as well as show you some things that will help you do the observational gesture (warm-up) drawings that take place at the beginning of each class. I will also talk more extensively about the equipment you will need for this class, although I have already listed the main things you will need elsewhere anyway. Finally, the latter part of this class will focus entirely on my own personal history in animation - showing you some of my best award-winning work, by way of a further introduction to what I have done and what I know.

https://www.learndesk.us/class/5492916057276416/lesson/b4ddcafbc8899327b792291177c1e0c5?ref=outlook-calendar
STATUS:CONFIRMED
SEQUENCE:3
BEGIN:VALARM
TRIGGER:-PT10M
DESCRIPTION:Class Reminder
ACTION:DISPLAY
END:VALARM
END:VEVENT
END:VCALENDAR