BEGIN:VCALENDAR
VERSION:2.0
CALSCALE:GREGORIAN
BEGIN:VEVENT
URL:https://www.learndesk.us/class/5492916057276416/lesson/ab25ff052ac8988e9a546e5d351b8145?ref=outlook-calendar
SUMMARY:Class 12: 27 Minutes
DTSTART;TZID=America/Los_Angeles:20260421T190000
DTEND;TZID=America/Los_Angeles:20260421T200000
LOCATION:https://www.learndesk.us/class/5492916057276416/lesson/ab25ff052ac8988e9a546e5d351b8145?ref=outlook-calendar
DESCRIPTION: In this final class in the section, we will start our observational gesture drawing warm-up session studying "Transitions" and how that can enhance the quality of the inbetweening process. After that, Tony will wrap up the final elements of the "Double bounce" action, introducing students to the "Moho" software, which will be the software of choice for our next course on digital 2D animation.

https://www.learndesk.us/class/5492916057276416/lesson/ab25ff052ac8988e9a546e5d351b8145?ref=outlook-calendar
STATUS:CONFIRMED
SEQUENCE:3
BEGIN:VALARM
TRIGGER:-PT10M
DESCRIPTION:Class Reminder
ACTION:DISPLAY
END:VALARM
END:VEVENT
END:VCALENDAR