BEGIN:VCALENDAR
VERSION:2.0
CALSCALE:GREGORIAN
BEGIN:VEVENT
URL:https://www.learndesk.us/class/5492916057276416/lesson/a43f392df0d8958e70e28b97557bde3f?ref=outlook-calendar
SUMMARY:Class 11: 1 Hour 08 Minutes
DTSTART;TZID=America/Los_Angeles:20260425T190000
DTEND;TZID=America/Los_Angeles:20260425T200000
LOCATION:https://www.learndesk.us/class/5492916057276416/lesson/a43f392df0d8958e70e28b97557bde3f?ref=outlook-calendar
DESCRIPTION: In this class, we will start our observational gesture drawing warm-up session studying "Extreme emotions" and how that can enhance the nature of the major key poses we create. After that, Tony will take students further into the "Double bounce" process. This time focusing on adding the "arm" and "torso" action to the previous lower body animation.

https://www.learndesk.us/class/5492916057276416/lesson/a43f392df0d8958e70e28b97557bde3f?ref=outlook-calendar
STATUS:CONFIRMED
SEQUENCE:3
BEGIN:VALARM
TRIGGER:-PT10M
DESCRIPTION:Class Reminder
ACTION:DISPLAY
END:VALARM
END:VEVENT
END:VCALENDAR