BEGIN:VCALENDAR
VERSION:2.0
CALSCALE:GREGORIAN
BEGIN:VEVENT
URL:https://www.learndesk.us/class/5492916057276416/lesson/7063655d2cede16c8b727dda4919932a?ref=outlook-calendar
SUMMARY:Class 10: 1 Hour 18 Minutes
DTSTART;TZID=America/Los_Angeles:20260421T190000
DTEND;TZID=America/Los_Angeles:20260421T200000
LOCATION:https://www.learndesk.us/class/5492916057276416/lesson/7063655d2cede16c8b727dda4919932a?ref=outlook-calendar
DESCRIPTION: In this class, we will start our observational gesture drawing warm-up session by studying "Fear emotions" and how that can impact the nature of the major key poses we create. After that, Tony will take students beyond the "Generic walk" into one of the major "personality" walks used by animators since the origins of Mickey mouse - i.e. the "Double bounce" walk. Again, this will be a multiple-stage process of demonstration and explanation - this one dealing with the "legs" and "lower-body" action.

https://www.learndesk.us/class/5492916057276416/lesson/7063655d2cede16c8b727dda4919932a?ref=outlook-calendar
STATUS:CONFIRMED
SEQUENCE:3
BEGIN:VALARM
TRIGGER:-PT10M
DESCRIPTION:Class Reminder
ACTION:DISPLAY
END:VALARM
END:VEVENT
END:VCALENDAR