BEGIN:VCALENDAR
VERSION:2.0
CALSCALE:GREGORIAN
BEGIN:VEVENT
URL:https://www.learndesk.us/class/5492916057276416/lesson/6e60090cb64168f7b1dc3fd4db6186cb?ref=outlook-calendar
SUMMARY:Class 04: 1 Hour 30 Minutes
DTSTART;TZID=America/Los_Angeles:20260421T190000
DTEND;TZID=America/Los_Angeles:20260421T200000
LOCATION:https://www.learndesk.us/class/5492916057276416/lesson/6e60090cb64168f7b1dc3fd4db6186cb?ref=outlook-calendar
DESCRIPTION: In this class, we will start our observational gesture drawing warm-up session by studying "Single person action" and how that can help us create strong and dynamic key poses. After that, Tony will take students deeper into the process of "Squash and Stretch" in animation, including a practical exercise of this in action. A further example of "Charting" will be given here too.

https://www.learndesk.us/class/5492916057276416/lesson/6e60090cb64168f7b1dc3fd4db6186cb?ref=outlook-calendar
STATUS:CONFIRMED
SEQUENCE:3
BEGIN:VALARM
TRIGGER:-PT10M
DESCRIPTION:Class Reminder
ACTION:DISPLAY
END:VALARM
END:VEVENT
END:VCALENDAR