BEGIN:VCALENDAR
VERSION:2.0
CALSCALE:GREGORIAN
BEGIN:VEVENT
URL:https://www.learndesk.us/class/5492916057276416/lesson/4a27931303cabd6c7303567968ac8cd8?ref=outlook-calendar
SUMMARY:Class 09: 1 Hour 12 Minutes
DTSTART;TZID=America/Los_Angeles:20260421T190000
DTEND;TZID=America/Los_Angeles:20260421T200000
LOCATION:https://www.learndesk.us/class/5492916057276416/lesson/4a27931303cabd6c7303567968ac8cd8?ref=outlook-calendar
DESCRIPTION: In this class, we will start our observational gesture drawing warm-up session studying "Happy emotions" and how they too can impact the nature of the major key poses we create. After that, Tony will conclude the 3-part explanation of the "Generic walk", focusing finally on the "overlapping action" that is best applied to the hands and head.

https://www.learndesk.us/class/5492916057276416/lesson/4a27931303cabd6c7303567968ac8cd8?ref=outlook-calendar
STATUS:CONFIRMED
SEQUENCE:3
BEGIN:VALARM
TRIGGER:-PT10M
DESCRIPTION:Class Reminder
ACTION:DISPLAY
END:VALARM
END:VEVENT
END:VCALENDAR