BEGIN:VCALENDAR
VERSION:2.0
CALSCALE:GREGORIAN
BEGIN:VEVENT
URL:https://www.learndesk.us/class/5492916057276416/lesson/3f802aa539ee26519d4bedc56463f005?ref=outlook-calendar
SUMMARY:Class 05: 36 Minutes
DTSTART;TZID=America/Los_Angeles:20260421T190000
DTEND;TZID=America/Los_Angeles:20260421T200000
LOCATION:https://www.learndesk.us/class/5492916057276416/lesson/3f802aa539ee26519d4bedc56463f005?ref=outlook-calendar
DESCRIPTION: In this class, we will start our observational gesture drawing warm-up session studying "Two-person action" and how that can help in punching up strong and dynamic key poses that relate to one another. Further explanation will be given on the "Slowing-in and Slowing-out" principles, with a drawn "Pendulum" exercise. Tony will also demonstrate how he put a "Max Fleischer" style scene together on layers for his recent project.

https://www.learndesk.us/class/5492916057276416/lesson/3f802aa539ee26519d4bedc56463f005?ref=outlook-calendar
STATUS:CONFIRMED
SEQUENCE:3
BEGIN:VALARM
TRIGGER:-PT10M
DESCRIPTION:Class Reminder
ACTION:DISPLAY
END:VALARM
END:VEVENT
END:VCALENDAR