BEGIN:VCALENDAR
VERSION:2.0
CALSCALE:GREGORIAN
BEGIN:VEVENT
URL:https://www.learndesk.us/class/5492916057276416/lesson/3e9b441fb769667882ef7e7fed65f5f7?ref=outlook-calendar
SUMMARY:Class 07: 1 Hour 33 Minutes
DTSTART;TZID=America/Los_Angeles:20260421T190000
DTEND;TZID=America/Los_Angeles:20260421T200000
LOCATION:https://www.learndesk.us/class/5492916057276416/lesson/3e9b441fb769667882ef7e7fed65f5f7?ref=outlook-calendar
DESCRIPTION: In this class, we will start our observational gesture drawing warm-up session studying "Pose alternatives" and how that can help us create strong and dynamic key poses. After that, Tony will introduce students to part 1 of a 3-part explanation of "Generic walks". Animating a walk convincingly is one of the hardest things for an animator to do well - although, once they can do that, they can pretty much animate anything. Therefore the process is explained in careful step-by-step stages, with this particular class just dealing with "lower body/legs action" and how to tackle that with a professional level of skill.

https://www.learndesk.us/class/5492916057276416/lesson/3e9b441fb769667882ef7e7fed65f5f7?ref=outlook-calendar
STATUS:CONFIRMED
SEQUENCE:3
BEGIN:VALARM
TRIGGER:-PT10M
DESCRIPTION:Class Reminder
ACTION:DISPLAY
END:VALARM
END:VEVENT
END:VCALENDAR