BEGIN:VCALENDAR
VERSION:2.0
CALSCALE:GREGORIAN
BEGIN:VEVENT
URL:https://www.learndesk.us/class/5492916057276416/lesson/28d50db6c651b123d47ac689bfc3d683?ref=outlook-calendar
SUMMARY:Class 03: 1 Hour 09 Minutes
DTSTART;TZID=America/Los_Angeles:20260421T190000
DTEND;TZID=America/Los_Angeles:20260421T200000
LOCATION:https://www.learndesk.us/class/5492916057276416/lesson/28d50db6c651b123d47ac689bfc3d683?ref=outlook-calendar
DESCRIPTION: In this class, we will start our observational gesture drawing warm-up session by studying "Sporting activity" and how that can help us create strong and dynamic key poses. After that, Tony will demonstrate what "Keys", "Breakdowns" and "Inbetweens" are - including the valuable technique of "Superimposition". There is a valuable assignment for a bouncing letter, which further explores the principles of "Slowing-in and Slowing-out", together with an explanation of "Charting" for inbetweening.

https://www.learndesk.us/class/5492916057276416/lesson/28d50db6c651b123d47ac689bfc3d683?ref=outlook-calendar
STATUS:CONFIRMED
SEQUENCE:3
BEGIN:VALARM
TRIGGER:-PT10M
DESCRIPTION:Class Reminder
ACTION:DISPLAY
END:VALARM
END:VEVENT
END:VCALENDAR