BEGIN:VCALENDAR
VERSION:2.0
CALSCALE:GREGORIAN
BEGIN:VEVENT
URL:https://www.learndesk.us/class/5492916057276416/in-the-classroom-with-tony-white-traditional-2d-animation?ref=outlook-calendar
SUMMARY:In The Classroom With Tony White: Traditional 2D Animation
DTSTART;TZID=America/Los_Angeles:20260421T190000
DTEND;TZID=America/Los_Angeles:20260421T200000
LOCATION:https://www.learndesk.us/class/5492916057276416/in-the-classroom-with-tony-white-traditional-2d-animation?ref=outlook-calendar
DESCRIPTION: "If you think something, you can draw it - and if you can draw something, you can animate it."
Origins: Throughout the winter of 2020 - 2021 instructor, Tony White, hosted&nbsp;
48 "live and online" classes on traditional 2D animation. This private course was broken down into 4 modules of 12 classes each. Namely.

Traditional hand-drawn 2D animation,
Digital (Moho) 2D animation,
Animated film pre-production, and
Animated film production.

Who should take this course?
The course was initially created for high school level students, for school credit, although older students from around the world virtually attended also.
Effectively, most students came in knowing absolutely nothing about animation but came out having made their own short, 30-seconds film. Existing animators learned many new things too, taking their work to the next level.

Bonus material: In addition to learning the essential, core principles of movement, students on the course were also required to participate in an...

https://www.learndesk.us/class/5492916057276416/in-the-classroom-with-tony-white-traditional-2d-animation?ref=outlook-calendar
STATUS:CONFIRMED
SEQUENCE:3
BEGIN:VALARM
TRIGGER:-PT10M
DESCRIPTION:Class Reminder
ACTION:DISPLAY
END:VALARM
END:VEVENT
END:VCALENDAR