BEGIN:VCALENDAR
VERSION:2.0
CALSCALE:GREGORIAN
BEGIN:VEVENT
URL:https://www.learndesk.us/class/5481519466414080/lesson/c01602ec88315e7713ed725f77335317?ref=outlook-calendar
SUMMARY:Exponents and Roots Problem 11
DTSTART;TZID=America/Los_Angeles:20260425T190000
DTEND;TZID=America/Los_Angeles:20260425T200000
LOCATION:https://www.learndesk.us/class/5481519466414080/lesson/c01602ec88315e7713ed725f77335317?ref=outlook-calendar
DESCRIPTION: https://www.learndesk.us/class/5481519466414080/lesson/c01602ec88315e7713ed725f77335317?ref=outlook-calendar
STATUS:CONFIRMED
SEQUENCE:3
BEGIN:VALARM
TRIGGER:-PT10M
DESCRIPTION:Class Reminder
ACTION:DISPLAY
END:VALARM
END:VEVENT
END:VCALENDAR