BEGIN:VCALENDAR
VERSION:2.0
CALSCALE:GREGORIAN
BEGIN:VEVENT
URL:https://www.learndesk.us/class/5481519466414080/lesson/0d904a319baf580ca4b88ce839e11b43?ref=outlook-calendar
SUMMARY:Direct Proportion
DTSTART;TZID=America/Los_Angeles:20260425T190000
DTEND;TZID=America/Los_Angeles:20260425T200000
LOCATION:https://www.learndesk.us/class/5481519466414080/lesson/0d904a319baf580ca4b88ce839e11b43?ref=outlook-calendar
DESCRIPTION: https://www.learndesk.us/class/5481519466414080/lesson/0d904a319baf580ca4b88ce839e11b43?ref=outlook-calendar
STATUS:CONFIRMED
SEQUENCE:3
BEGIN:VALARM
TRIGGER:-PT10M
DESCRIPTION:Class Reminder
ACTION:DISPLAY
END:VALARM
END:VEVENT
END:VCALENDAR