BEGIN:VCALENDAR
VERSION:2.0
CALSCALE:GREGORIAN
BEGIN:VEVENT
URL:https://www.learndesk.us/class/5473041867866112/lesson/ff202f224d7403d578f8973adbea0c7c?ref=outlook-calendar
SUMMARY:Unified Threat Management
DTSTART;TZID=America/Los_Angeles:20260422T190000
DTEND;TZID=America/Los_Angeles:20260422T200000
LOCATION:https://www.learndesk.us/class/5473041867866112/lesson/ff202f224d7403d578f8973adbea0c7c?ref=outlook-calendar
DESCRIPTION: In this lesson, you will learn about the all-in-one devices known as Unified Threat Management (UTM) systems. These are also known as Next Generation Firewalls (NGFW).

https://www.learndesk.us/class/5473041867866112/lesson/ff202f224d7403d578f8973adbea0c7c?ref=outlook-calendar
STATUS:CONFIRMED
SEQUENCE:3
BEGIN:VALARM
TRIGGER:-PT10M
DESCRIPTION:Class Reminder
ACTION:DISPLAY
END:VALARM
END:VEVENT
END:VCALENDAR