BEGIN:VCALENDAR
VERSION:2.0
CALSCALE:GREGORIAN
BEGIN:VEVENT
URL:https://www.learndesk.us/class/5473041867866112/lesson/fd95f5c8415ad1aa4e65d729aed7a960?ref=outlook-calendar
SUMMARY:Demo: Group Policies
DTSTART;TZID=America/Los_Angeles:20260422T190000
DTEND;TZID=America/Los_Angeles:20260422T200000
LOCATION:https://www.learndesk.us/class/5473041867866112/lesson/fd95f5c8415ad1aa4e65d729aed7a960?ref=outlook-calendar
DESCRIPTION: This demonstration shows how to use the group policy editor to whitelist or blacklist an application.

https://www.learndesk.us/class/5473041867866112/lesson/fd95f5c8415ad1aa4e65d729aed7a960?ref=outlook-calendar
STATUS:CONFIRMED
SEQUENCE:3
BEGIN:VALARM
TRIGGER:-PT10M
DESCRIPTION:Class Reminder
ACTION:DISPLAY
END:VALARM
END:VEVENT
END:VCALENDAR