BEGIN:VCALENDAR
VERSION:2.0
CALSCALE:GREGORIAN
BEGIN:VEVENT
URL:https://www.learndesk.us/class/5473041867866112/lesson/f525fd4bb5f4f9c0a07da24d2ba11dd2?ref=outlook-calendar
SUMMARY:SDLC Principles
DTSTART;TZID=America/Los_Angeles:20260424T190000
DTEND;TZID=America/Los_Angeles:20260424T200000
LOCATION:https://www.learndesk.us/class/5473041867866112/lesson/f525fd4bb5f4f9c0a07da24d2ba11dd2?ref=outlook-calendar
DESCRIPTION: This lesson discusses how the principles of the CIA triad are applied to SDLC and DevOps.

https://www.learndesk.us/class/5473041867866112/lesson/f525fd4bb5f4f9c0a07da24d2ba11dd2?ref=outlook-calendar
STATUS:CONFIRMED
SEQUENCE:3
BEGIN:VALARM
TRIGGER:-PT10M
DESCRIPTION:Class Reminder
ACTION:DISPLAY
END:VALARM
END:VEVENT
END:VCALENDAR