BEGIN:VCALENDAR
VERSION:2.0
CALSCALE:GREGORIAN
BEGIN:VEVENT
URL:https://www.learndesk.us/class/5473041867866112/lesson/f2974c5e808b455ee56f399a96d06834?ref=outlook-calendar
SUMMARY:Overview of Security
DTSTART;TZID=America/Los_Angeles:20260422T190000
DTEND;TZID=America/Los_Angeles:20260422T200000
LOCATION:https://www.learndesk.us/class/5473041867866112/lesson/f2974c5e808b455ee56f399a96d06834?ref=outlook-calendar
DESCRIPTION: 
This section will give you a brief introduction about the course.

Welcome
Overview of security
CIA triad
AAA of security
Security threats
Mitigating threats
Hackers
Threat actors



https://www.learndesk.us/class/5473041867866112/lesson/f2974c5e808b455ee56f399a96d06834?ref=outlook-calendar
STATUS:CONFIRMED
SEQUENCE:3
BEGIN:VALARM
TRIGGER:-PT10M
DESCRIPTION:Class Reminder
ACTION:DISPLAY
END:VALARM
END:VEVENT
END:VCALENDAR