BEGIN:VCALENDAR
VERSION:2.0
CALSCALE:GREGORIAN
BEGIN:VEVENT
URL:https://www.learndesk.us/class/5473041867866112/lesson/f052b3f86faf20a6818cf37bd1014a4e?ref=outlook-calendar
SUMMARY:Data Loss Prevention
DTSTART;TZID=America/Los_Angeles:20260424T190000
DTEND;TZID=America/Los_Angeles:20260424T200000
LOCATION:https://www.learndesk.us/class/5473041867866112/lesson/f052b3f86faf20a6818cf37bd1014a4e?ref=outlook-calendar
DESCRIPTION: In this lesson, you will learn how data loss prevention is implemented in a network.

https://www.learndesk.us/class/5473041867866112/lesson/f052b3f86faf20a6818cf37bd1014a4e?ref=outlook-calendar
STATUS:CONFIRMED
SEQUENCE:3
BEGIN:VALARM
TRIGGER:-PT10M
DESCRIPTION:Class Reminder
ACTION:DISPLAY
END:VALARM
END:VEVENT
END:VCALENDAR