BEGIN:VCALENDAR
VERSION:2.0
CALSCALE:GREGORIAN
BEGIN:VEVENT
URL:https://www.learndesk.us/class/5473041867866112/lesson/ebeaecf9bd64488ecf8ceacb41a267b7?ref=outlook-calendar
SUMMARY:Mitigating Threats
DTSTART;TZID=America/Los_Angeles:20260422T190000
DTEND;TZID=America/Los_Angeles:20260422T200000
LOCATION:https://www.learndesk.us/class/5473041867866112/lesson/ebeaecf9bd64488ecf8ceacb41a267b7?ref=outlook-calendar
DESCRIPTION: This lesson covers the three basic types of security controls and how to mitigate threats.

https://www.learndesk.us/class/5473041867866112/lesson/ebeaecf9bd64488ecf8ceacb41a267b7?ref=outlook-calendar
STATUS:CONFIRMED
SEQUENCE:3
BEGIN:VALARM
TRIGGER:-PT10M
DESCRIPTION:Class Reminder
ACTION:DISPLAY
END:VALARM
END:VEVENT
END:VCALENDAR