BEGIN:VCALENDAR
VERSION:2.0
CALSCALE:GREGORIAN
BEGIN:VEVENT
URL:https://www.learndesk.us/class/5473041867866112/lesson/eb37d87a0a965517b0b4d1bf89b19c01?ref=outlook-calendar
SUMMARY:Vendor Relationships
DTSTART;TZID=America/Los_Angeles:20260422T190000
DTEND;TZID=America/Los_Angeles:20260422T200000
LOCATION:https://www.learndesk.us/class/5473041867866112/lesson/eb37d87a0a965517b0b4d1bf89b19c01?ref=outlook-calendar
DESCRIPTION: In this lesson, you will learn about how you can formalize your vendor relationships through SLAs, BPAs, MOUs, and ISAs.

https://www.learndesk.us/class/5473041867866112/lesson/eb37d87a0a965517b0b4d1bf89b19c01?ref=outlook-calendar
STATUS:CONFIRMED
SEQUENCE:3
BEGIN:VALARM
TRIGGER:-PT10M
DESCRIPTION:Class Reminder
ACTION:DISPLAY
END:VALARM
END:VEVENT
END:VCALENDAR