BEGIN:VCALENDAR
VERSION:2.0
CALSCALE:GREGORIAN
BEGIN:VEVENT
URL:https://www.learndesk.us/class/5473041867866112/lesson/e45cd871a4bfa25a9a3821db4312ea91?ref=outlook-calendar
SUMMARY:Secure Software Development
DTSTART;TZID=America/Los_Angeles:20260422T190000
DTEND;TZID=America/Los_Angeles:20260422T200000
LOCATION:https://www.learndesk.us/class/5473041867866112/lesson/e45cd871a4bfa25a9a3821db4312ea91?ref=outlook-calendar
DESCRIPTION: 
Learn about Secure Software Development.

Software Development
SDLC principles
Testing methods
Software vulnerabilities and exploits
Buffer overflows
Demo: Buffer overflow attack
XSS and XSRF 
SQL injection
Demo: SQL injection



https://www.learndesk.us/class/5473041867866112/lesson/e45cd871a4bfa25a9a3821db4312ea91?ref=outlook-calendar
STATUS:CONFIRMED
SEQUENCE:3
BEGIN:VALARM
TRIGGER:-PT10M
DESCRIPTION:Class Reminder
ACTION:DISPLAY
END:VALARM
END:VEVENT
END:VCALENDAR