BEGIN:VCALENDAR
VERSION:2.0
CALSCALE:GREGORIAN
BEGIN:VEVENT
URL:https://www.learndesk.us/class/5473041867866112/lesson/e428591ef860f51a6dc32a70ffc2369e?ref=outlook-calendar
SUMMARY:Exam Tricks
DTSTART;TZID=America/Los_Angeles:20260422T190000
DTEND;TZID=America/Los_Angeles:20260422T200000
LOCATION:https://www.learndesk.us/class/5473041867866112/lesson/e428591ef860f51a6dc32a70ffc2369e?ref=outlook-calendar
DESCRIPTION: In this lesson, you will receive some great tips to help you increase your score on your certification exam.

https://www.learndesk.us/class/5473041867866112/lesson/e428591ef860f51a6dc32a70ffc2369e?ref=outlook-calendar
STATUS:CONFIRMED
SEQUENCE:3
BEGIN:VALARM
TRIGGER:-PT10M
DESCRIPTION:Class Reminder
ACTION:DISPLAY
END:VALARM
END:VEVENT
END:VCALENDAR