BEGIN:VCALENDAR
VERSION:2.0
CALSCALE:GREGORIAN
BEGIN:VEVENT
URL:https://www.learndesk.us/class/5473041867866112/lesson/e2b9ad281ca812a6e398e2ea0c3c6472?ref=outlook-calendar
SUMMARY:Hashing Attacks
DTSTART;TZID=America/Los_Angeles:20260422T190000
DTEND;TZID=America/Los_Angeles:20260422T200000
LOCATION:https://www.learndesk.us/class/5473041867866112/lesson/e2b9ad281ca812a6e398e2ea0c3c6472?ref=outlook-calendar
DESCRIPTION: In this lesson, you will learn about the pass the hash and birthday attacks used against hashes.

https://www.learndesk.us/class/5473041867866112/lesson/e2b9ad281ca812a6e398e2ea0c3c6472?ref=outlook-calendar
STATUS:CONFIRMED
SEQUENCE:3
BEGIN:VALARM
TRIGGER:-PT10M
DESCRIPTION:Class Reminder
ACTION:DISPLAY
END:VALARM
END:VEVENT
END:VCALENDAR