BEGIN:VCALENDAR
VERSION:2.0
CALSCALE:GREGORIAN
BEGIN:VEVENT
URL:https://www.learndesk.us/class/5473041867866112/lesson/e1fee54a42aacf69fa4c784c41eb513b?ref=outlook-calendar
SUMMARY:Password Analysis
DTSTART;TZID=America/Los_Angeles:20260422T190000
DTEND;TZID=America/Los_Angeles:20260422T200000
LOCATION:https://www.learndesk.us/class/5473041867866112/lesson/e1fee54a42aacf69fa4c784c41eb513b?ref=outlook-calendar
DESCRIPTION: In this lesson, you will learn the various ways to break a password.

https://www.learndesk.us/class/5473041867866112/lesson/e1fee54a42aacf69fa4c784c41eb513b?ref=outlook-calendar
STATUS:CONFIRMED
SEQUENCE:3
BEGIN:VALARM
TRIGGER:-PT10M
DESCRIPTION:Class Reminder
ACTION:DISPLAY
END:VALARM
END:VEVENT
END:VCALENDAR