BEGIN:VCALENDAR
VERSION:2.0
CALSCALE:GREGORIAN
BEGIN:VEVENT
URL:https://www.learndesk.us/class/5473041867866112/lesson/e0e42524ee9a0327f40d166af6800e9b?ref=outlook-calendar
SUMMARY:User Education
DTSTART;TZID=America/Los_Angeles:20260422T190000
DTEND;TZID=America/Los_Angeles:20260422T200000
LOCATION:https://www.learndesk.us/class/5473041867866112/lesson/e0e42524ee9a0327f40d166af6800e9b?ref=outlook-calendar
DESCRIPTION: In this lesson, you will learn about the importance of user education in the enforcement of policies and procedures.

https://www.learndesk.us/class/5473041867866112/lesson/e0e42524ee9a0327f40d166af6800e9b?ref=outlook-calendar
STATUS:CONFIRMED
SEQUENCE:3
BEGIN:VALARM
TRIGGER:-PT10M
DESCRIPTION:Class Reminder
ACTION:DISPLAY
END:VALARM
END:VEVENT
END:VCALENDAR