BEGIN:VCALENDAR
VERSION:2.0
CALSCALE:GREGORIAN
BEGIN:VEVENT
URL:https://www.learndesk.us/class/5473041867866112/lesson/dee09e78fbbe5e2a67038eea1f937fc9?ref=outlook-calendar
SUMMARY:Authentication
DTSTART;TZID=America/Los_Angeles:20260424T190000
DTEND;TZID=America/Los_Angeles:20260424T200000
LOCATION:https://www.learndesk.us/class/5473041867866112/lesson/dee09e78fbbe5e2a67038eea1f937fc9?ref=outlook-calendar
DESCRIPTION: 
Learn about authentication.

Authentication
Authentication models
802.1x
LDAP and Kerberos
Remote desktop services
Remote access service
VPN
RADIUS vs TACACS+
Authentication summary



https://www.learndesk.us/class/5473041867866112/lesson/dee09e78fbbe5e2a67038eea1f937fc9?ref=outlook-calendar
STATUS:CONFIRMED
SEQUENCE:3
BEGIN:VALARM
TRIGGER:-PT10M
DESCRIPTION:Class Reminder
ACTION:DISPLAY
END:VALARM
END:VEVENT
END:VCALENDAR