BEGIN:VCALENDAR
VERSION:2.0
CALSCALE:GREGORIAN
BEGIN:VEVENT
URL:https://www.learndesk.us/class/5473041867866112/lesson/db2f09056e744d556df37739adbed2a6?ref=outlook-calendar
SUMMARY:Physical Security
DTSTART;TZID=America/Los_Angeles:20260422T190000
DTEND;TZID=America/Los_Angeles:20260422T200000
LOCATION:https://www.learndesk.us/class/5473041867866112/lesson/db2f09056e744d556df37739adbed2a6?ref=outlook-calendar
DESCRIPTION: 
Learn about Physical security.

Physical security
Surveillance
Door locks
Demo: Lock picking
Biometric readers



https://www.learndesk.us/class/5473041867866112/lesson/db2f09056e744d556df37739adbed2a6?ref=outlook-calendar
STATUS:CONFIRMED
SEQUENCE:3
BEGIN:VALARM
TRIGGER:-PT10M
DESCRIPTION:Class Reminder
ACTION:DISPLAY
END:VALARM
END:VEVENT
END:VCALENDAR