BEGIN:VCALENDAR
VERSION:2.0
CALSCALE:GREGORIAN
BEGIN:VEVENT
URL:https://www.learndesk.us/class/5473041867866112/lesson/d95e6f21488f682989239c24067e169c?ref=outlook-calendar
SUMMARY:Mobile Device Security
DTSTART;TZID=America/Los_Angeles:20260422T190000
DTEND;TZID=America/Los_Angeles:20260422T200000
LOCATION:https://www.learndesk.us/class/5473041867866112/lesson/d95e6f21488f682989239c24067e169c?ref=outlook-calendar
DESCRIPTION: 
You will learn about advanced testing with Sqlmap here.

Mobile device security
Securing wireless devices
Mobile malware
SIM cloning and ID theft
Bluetooth attacks
Mobile device theft
Security of apps
BYOD
Hardening mobile devices



https://www.learndesk.us/class/5473041867866112/lesson/d95e6f21488f682989239c24067e169c?ref=outlook-calendar
STATUS:CONFIRMED
SEQUENCE:3
BEGIN:VALARM
TRIGGER:-PT10M
DESCRIPTION:Class Reminder
ACTION:DISPLAY
END:VALARM
END:VEVENT
END:VCALENDAR