BEGIN:VCALENDAR
VERSION:2.0
CALSCALE:GREGORIAN
BEGIN:VEVENT
URL:https://www.learndesk.us/class/5473041867866112/lesson/d7efb75afe5cc7198fb6f9b3b0539c67?ref=outlook-calendar
SUMMARY:Logging
DTSTART;TZID=America/Los_Angeles:20260422T190000
DTEND;TZID=America/Los_Angeles:20260422T200000
LOCATION:https://www.learndesk.us/class/5473041867866112/lesson/d7efb75afe5cc7198fb6f9b3b0539c67?ref=outlook-calendar
DESCRIPTION: In this lesson, you will get introduced to the different types of logs collected.

https://www.learndesk.us/class/5473041867866112/lesson/d7efb75afe5cc7198fb6f9b3b0539c67?ref=outlook-calendar
STATUS:CONFIRMED
SEQUENCE:3
BEGIN:VALARM
TRIGGER:-PT10M
DESCRIPTION:Class Reminder
ACTION:DISPLAY
END:VALARM
END:VEVENT
END:VCALENDAR