BEGIN:VCALENDAR
VERSION:2.0
CALSCALE:GREGORIAN
BEGIN:VEVENT
URL:https://www.learndesk.us/class/5473041867866112/lesson/d6d43664f40928dcef18b1ca4d472b19?ref=outlook-calendar
SUMMARY:Certificate Authorities
DTSTART;TZID=America/Los_Angeles:20260422T190000
DTEND;TZID=America/Los_Angeles:20260422T200000
LOCATION:https://www.learndesk.us/class/5473041867866112/lesson/d6d43664f40928dcef18b1ca4d472b19?ref=outlook-calendar
DESCRIPTION: In this lesson, you will learn about how certificate authorities are used in security.

https://www.learndesk.us/class/5473041867866112/lesson/d6d43664f40928dcef18b1ca4d472b19?ref=outlook-calendar
STATUS:CONFIRMED
SEQUENCE:3
BEGIN:VALARM
TRIGGER:-PT10M
DESCRIPTION:Class Reminder
ACTION:DISPLAY
END:VALARM
END:VEVENT
END:VCALENDAR