BEGIN:VCALENDAR
VERSION:2.0
CALSCALE:GREGORIAN
BEGIN:VEVENT
URL:https://www.learndesk.us/class/5473041867866112/lesson/d6bfa8c269bd236a3f36dfd050a2b3ca?ref=outlook-calendar
SUMMARY:Demo: Securing VMs
DTSTART;TZID=America/Los_Angeles:20260424T190000
DTEND;TZID=America/Los_Angeles:20260424T200000
LOCATION:https://www.learndesk.us/class/5473041867866112/lesson/d6bfa8c269bd236a3f36dfd050a2b3ca?ref=outlook-calendar
DESCRIPTION: This demonstration will show you how to encrypt the virtual machine's files on the host system and to isolate a virtual machine from the network and host computer.

https://www.learndesk.us/class/5473041867866112/lesson/d6bfa8c269bd236a3f36dfd050a2b3ca?ref=outlook-calendar
STATUS:CONFIRMED
SEQUENCE:3
BEGIN:VALARM
TRIGGER:-PT10M
DESCRIPTION:Class Reminder
ACTION:DISPLAY
END:VALARM
END:VEVENT
END:VCALENDAR