BEGIN:VCALENDAR
VERSION:2.0
CALSCALE:GREGORIAN
BEGIN:VEVENT
URL:https://www.learndesk.us/class/5473041867866112/lesson/d10feab19f860ff3d66dd181a35b214d?ref=outlook-calendar
SUMMARY:Demo: Phishing
DTSTART;TZID=America/Los_Angeles:20260422T190000
DTEND;TZID=America/Los_Angeles:20260422T200000
LOCATION:https://www.learndesk.us/class/5473041867866112/lesson/d10feab19f860ff3d66dd181a35b214d?ref=outlook-calendar
DESCRIPTION: This demonstration will show you how easy it is to be tricked by a phishing email and how to prevent it.

https://www.learndesk.us/class/5473041867866112/lesson/d10feab19f860ff3d66dd181a35b214d?ref=outlook-calendar
STATUS:CONFIRMED
SEQUENCE:3
BEGIN:VALARM
TRIGGER:-PT10M
DESCRIPTION:Class Reminder
ACTION:DISPLAY
END:VALARM
END:VEVENT
END:VCALENDAR