BEGIN:VCALENDAR
VERSION:2.0
CALSCALE:GREGORIAN
BEGIN:VEVENT
URL:https://www.learndesk.us/class/5473041867866112/lesson/d0a5accc3d831c484a3c3787335d84f1?ref=outlook-calendar
SUMMARY:Demo: Pretexting
DTSTART;TZID=America/Los_Angeles:20260422T190000
DTEND;TZID=America/Los_Angeles:20260422T200000
LOCATION:https://www.learndesk.us/class/5473041867866112/lesson/d0a5accc3d831c484a3c3787335d84f1?ref=outlook-calendar
DESCRIPTION: In this demonstration, you will see how pretexting works as part of a social engineering attempt.

https://www.learndesk.us/class/5473041867866112/lesson/d0a5accc3d831c484a3c3787335d84f1?ref=outlook-calendar
STATUS:CONFIRMED
SEQUENCE:3
BEGIN:VALARM
TRIGGER:-PT10M
DESCRIPTION:Class Reminder
ACTION:DISPLAY
END:VALARM
END:VEVENT
END:VCALENDAR