BEGIN:VCALENDAR
VERSION:2.0
CALSCALE:GREGORIAN
BEGIN:VEVENT
URL:https://www.learndesk.us/class/5473041867866112/lesson/cef6c3b98e22c7a50100036359f182ae?ref=outlook-calendar
SUMMARY:Demo: Hashing
DTSTART;TZID=America/Los_Angeles:20260422T190000
DTEND;TZID=America/Los_Angeles:20260422T200000
LOCATION:https://www.learndesk.us/class/5473041867866112/lesson/cef6c3b98e22c7a50100036359f182ae?ref=outlook-calendar
DESCRIPTION: In this demonstration, you will see how an MD5 hash is created for two slightly different inputs, creating a large difference in their outputs.

https://www.learndesk.us/class/5473041867866112/lesson/cef6c3b98e22c7a50100036359f182ae?ref=outlook-calendar
STATUS:CONFIRMED
SEQUENCE:3
BEGIN:VALARM
TRIGGER:-PT10M
DESCRIPTION:Class Reminder
ACTION:DISPLAY
END:VALARM
END:VEVENT
END:VCALENDAR