BEGIN:VCALENDAR
VERSION:2.0
CALSCALE:GREGORIAN
BEGIN:VEVENT
URL:https://www.learndesk.us/class/5473041867866112/lesson/cc4adcb56d971c9e93da21a35a9940ab?ref=outlook-calendar
SUMMARY:Redundant Sites
DTSTART;TZID=America/Los_Angeles:20260422T190000
DTEND;TZID=America/Los_Angeles:20260422T200000
LOCATION:https://www.learndesk.us/class/5473041867866112/lesson/cc4adcb56d971c9e93da21a35a9940ab?ref=outlook-calendar
DESCRIPTION: In this lesson, we will discuss the concept of a hot, warm, and cold site.

https://www.learndesk.us/class/5473041867866112/lesson/cc4adcb56d971c9e93da21a35a9940ab?ref=outlook-calendar
STATUS:CONFIRMED
SEQUENCE:3
BEGIN:VALARM
TRIGGER:-PT10M
DESCRIPTION:Class Reminder
ACTION:DISPLAY
END:VALARM
END:VEVENT
END:VCALENDAR