BEGIN:VCALENDAR
VERSION:2.0
CALSCALE:GREGORIAN
BEGIN:VEVENT
URL:https://www.learndesk.us/class/5473041867866112/lesson/cc1742b28f08ca5c25699a9f2a62298e?ref=outlook-calendar
SUMMARY:Demo: How to create a VM
DTSTART;TZID=America/Los_Angeles:20260422T190000
DTEND;TZID=America/Los_Angeles:20260422T200000
LOCATION:https://www.learndesk.us/class/5473041867866112/lesson/cc1742b28f08ca5c25699a9f2a62298e?ref=outlook-calendar
DESCRIPTION: This demonstration shows how to install and create a virtual machine in VirtualBox.

https://www.learndesk.us/class/5473041867866112/lesson/cc1742b28f08ca5c25699a9f2a62298e?ref=outlook-calendar
STATUS:CONFIRMED
SEQUENCE:3
BEGIN:VALARM
TRIGGER:-PT10M
DESCRIPTION:Class Reminder
ACTION:DISPLAY
END:VALARM
END:VEVENT
END:VCALENDAR