BEGIN:VCALENDAR
VERSION:2.0
CALSCALE:GREGORIAN
BEGIN:VEVENT
URL:https://www.learndesk.us/class/5473041867866112/lesson/c9a4d5178297283d40d39c79be2f7764?ref=outlook-calendar
SUMMARY:As a Service
DTSTART;TZID=America/Los_Angeles:20260422T190000
DTEND;TZID=America/Los_Angeles:20260422T200000
LOCATION:https://www.learndesk.us/class/5473041867866112/lesson/c9a4d5178297283d40d39c79be2f7764?ref=outlook-calendar
DESCRIPTION: In this lesson, you will learn about the different "as a service" models your organization might use, such as Software as a Service, Infrastructure as a Service, Platform as a Service, and Security as a Service.

https://www.learndesk.us/class/5473041867866112/lesson/c9a4d5178297283d40d39c79be2f7764?ref=outlook-calendar
STATUS:CONFIRMED
SEQUENCE:3
BEGIN:VALARM
TRIGGER:-PT10M
DESCRIPTION:Class Reminder
ACTION:DISPLAY
END:VALARM
END:VEVENT
END:VCALENDAR