BEGIN:VCALENDAR
VERSION:2.0
CALSCALE:GREGORIAN
BEGIN:VEVENT
URL:https://www.learndesk.us/class/5473041867866112/lesson/c6e760435888f0759c03a5ba7fb09e20?ref=outlook-calendar
SUMMARY:Fire Suppression
DTSTART;TZID=America/Los_Angeles:20260422T190000
DTEND;TZID=America/Los_Angeles:20260422T200000
LOCATION:https://www.learndesk.us/class/5473041867866112/lesson/c6e760435888f0759c03a5ba7fb09e20?ref=outlook-calendar
DESCRIPTION: In this lesson, we will discuss fire suppression systems that may be used in your buildings.

https://www.learndesk.us/class/5473041867866112/lesson/c6e760435888f0759c03a5ba7fb09e20?ref=outlook-calendar
STATUS:CONFIRMED
SEQUENCE:3
BEGIN:VALARM
TRIGGER:-PT10M
DESCRIPTION:Class Reminder
ACTION:DISPLAY
END:VALARM
END:VEVENT
END:VCALENDAR