BEGIN:VCALENDAR
VERSION:2.0
CALSCALE:GREGORIAN
BEGIN:VEVENT
URL:https://www.learndesk.us/class/5473041867866112/lesson/c6e5393ca04cf9b672d90dbeab49a790?ref=outlook-calendar
SUMMARY:Public Key Cryptography
DTSTART;TZID=America/Los_Angeles:20260422T190000
DTEND;TZID=America/Los_Angeles:20260422T200000
LOCATION:https://www.learndesk.us/class/5473041867866112/lesson/c6e5393ca04cf9b672d90dbeab49a790?ref=outlook-calendar
DESCRIPTION: In this lesson, you will be introduced to the concept of Public Key Cryptography. We will cover this in depth in the next section of the course.

https://www.learndesk.us/class/5473041867866112/lesson/c6e5393ca04cf9b672d90dbeab49a790?ref=outlook-calendar
STATUS:CONFIRMED
SEQUENCE:3
BEGIN:VALARM
TRIGGER:-PT10M
DESCRIPTION:Class Reminder
ACTION:DISPLAY
END:VALARM
END:VEVENT
END:VCALENDAR