BEGIN:VCALENDAR
VERSION:2.0
CALSCALE:GREGORIAN
BEGIN:VEVENT
URL:https://www.learndesk.us/class/5473041867866112/lesson/c4b640b856970ddf2882585ed393fe6c?ref=outlook-calendar
SUMMARY:AAA of Security
DTSTART;TZID=America/Los_Angeles:20260422T190000
DTEND;TZID=America/Los_Angeles:20260422T200000
LOCATION:https://www.learndesk.us/class/5473041867866112/lesson/c4b640b856970ddf2882585ed393fe6c?ref=outlook-calendar
DESCRIPTION: This lesson covers the AAA of security: authentication, authorization, and accounting.

https://www.learndesk.us/class/5473041867866112/lesson/c4b640b856970ddf2882585ed393fe6c?ref=outlook-calendar
STATUS:CONFIRMED
SEQUENCE:3
BEGIN:VALARM
TRIGGER:-PT10M
DESCRIPTION:Class Reminder
ACTION:DISPLAY
END:VALARM
END:VEVENT
END:VCALENDAR