BEGIN:VCALENDAR
VERSION:2.0
CALSCALE:GREGORIAN
BEGIN:VEVENT
URL:https://www.learndesk.us/class/5473041867866112/lesson/c2978b58e0d19b2a1d93de78e8729e76?ref=outlook-calendar
SUMMARY:Other Wireless Technologies
DTSTART;TZID=America/Los_Angeles:20260422T190000
DTEND;TZID=America/Los_Angeles:20260422T200000
LOCATION:https://www.learndesk.us/class/5473041867866112/lesson/c2978b58e0d19b2a1d93de78e8729e76?ref=outlook-calendar
DESCRIPTION: In this lesson, we will discuss the attacks against Bluetooth, RFID, NFC, cellular, and satellite communications.

https://www.learndesk.us/class/5473041867866112/lesson/c2978b58e0d19b2a1d93de78e8729e76?ref=outlook-calendar
STATUS:CONFIRMED
SEQUENCE:3
BEGIN:VALARM
TRIGGER:-PT10M
DESCRIPTION:Class Reminder
ACTION:DISPLAY
END:VALARM
END:VEVENT
END:VCALENDAR