BEGIN:VCALENDAR
VERSION:2.0
CALSCALE:GREGORIAN
BEGIN:VEVENT
URL:https://www.learndesk.us/class/5473041867866112/lesson/bd6a425c2674dcc4ecf9a20a7211bb99?ref=outlook-calendar
SUMMARY:Pretty Good Privacy
DTSTART;TZID=America/Los_Angeles:20260422T190000
DTEND;TZID=America/Los_Angeles:20260422T200000
LOCATION:https://www.learndesk.us/class/5473041867866112/lesson/bd6a425c2674dcc4ecf9a20a7211bb99?ref=outlook-calendar
DESCRIPTION: In this lesson, you will be introduced to the open source encryption method known as Pretty Good Privacy (PGP).

https://www.learndesk.us/class/5473041867866112/lesson/bd6a425c2674dcc4ecf9a20a7211bb99?ref=outlook-calendar
STATUS:CONFIRMED
SEQUENCE:3
BEGIN:VALARM
TRIGGER:-PT10M
DESCRIPTION:Class Reminder
ACTION:DISPLAY
END:VALARM
END:VEVENT
END:VCALENDAR